BEGIN:VCALENDAR
VERSION:2.0
PRODID:-//www.udsf.org//NONSGML kigkonsult.se iCalcreator 2.30.10//
CALSCALE:GREGORIAN
METHOD:PUBLISH
UID:2c9414ba-8d89-49c0-8fe7-a0d6a3ffd46f
X-WR-CALDESC:
X-WR-RELCALID:15ec9d22d798797808dc2a7baf723cbe
X-WR-TIMEZONE:America/Denver
BEGIN:VTIMEZONE
TZID:America/Denver
BEGIN:STANDARD
TZNAME:MST
DTSTART:20241103T020000
TZOFFSETFROM:-0600
TZOFFSETTO:-0700
RDATE:20251102T020000
END:STANDARD
BEGIN:DAYLIGHT
TZNAME:MDT
DTSTART:20240310T020000
TZOFFSETFROM:-0700
TZOFFSETTO:-0600
RDATE:20250309T020000
RDATE:20260308T020000
END:DAYLIGHT
END:VTIMEZONE
BEGIN:VEVENT
UID:e6505be8-584f-4ee5-b3bb-3bbf709740dc
DTSTAMP:20260420T081910Z
DESCRIPTION:
DTSTART;TZID=America/Denver:20241112T180000
DTEND;TZID=America/Denver:20241112T190000
LOCATION:https://www.inspiresleep.com/en-us/event/IntermountainPrimaryChild
 rensHospital__UT0100__Webinar_11_12_2024/
SUMMARY:Learn About Inspire for Obstructive Sleep Apnea
END:VEVENT
END:VCALENDAR
