BEGIN:VCALENDAR
VERSION:2.0
PRODID:-//www.udsf.org//NONSGML kigkonsult.se iCalcreator 2.30.10//
CALSCALE:GREGORIAN
METHOD:PUBLISH
UID:e896845a-e710-42a8-9fb6-351ed56a43f8
X-WR-CALDESC:Eventful in Provo (a student run organization) invites youth a
 nd adults ages 11+ to come make meaningful connections with buddies from U
 nited Angels\, Utah Kids\, and the Utah Down Syndrome Foundation. Enjoy fu
 n games\, crafts\, treats\, and dancing. Free Admission but please registe
 r. Caregivers are welcome to stay but not necessary (caregivers please reg
 ister if you do plan on staying).
X-WR-RELCALID:7a0d3f2b67f46cad15d4f44cce6362da
X-WR-TIMEZONE:America/Denver
BEGIN:VTIMEZONE
TZID:America/Denver
BEGIN:STANDARD
TZNAME:MST
DTSTART:20241103T020000
TZOFFSETFROM:-0600
TZOFFSETTO:-0700
RDATE:20251102T020000
END:STANDARD
BEGIN:DAYLIGHT
TZNAME:MDT
DTSTART:20240310T020000
TZOFFSETFROM:-0700
TZOFFSETTO:-0600
RDATE:20250309T020000
RDATE:20260308T020000
END:DAYLIGHT
END:VTIMEZONE
BEGIN:VEVENT
UID:88bf3132-548c-4d0b-bb28-f0561ee483bd
DTSTAMP:20260420T081916Z
DESCRIPTION:Eventful in Provo (a student run organization) invites youth an
 d adults ages 11+ to come make meaningful connections with buddies from Un
 ited Angels\, Utah Kids\, and the Utah Down Syndrome Foundation. Enjoy fun
  games\, crafts\, treats\, and dancing. Free Admission but please register
 . Caregivers are welcome to stay but not necessary (caregivers please regi
 ster if you do plan on staying).
DTSTART;TZID=America/Denver:20241118T180000
DTEND;TZID=America/Denver:20241118T200000
LOCATION:The Boulevard \, 1555 N. Freedom Blvd\, Provo\, UT 84604 US
SUMMARY:Friendsgiving Ages 11+
END:VEVENT
END:VCALENDAR
