BEGIN:VCALENDAR
VERSION:2.0
PRODID:-//www.udsf.org//NONSGML kigkonsult.se iCalcreator 2.30.10//
CALSCALE:GREGORIAN
METHOD:PUBLISH
UID:53a5c944-535b-44fd-a24b-45dbb00644ec
X-WR-CALDESC:Join other UDSF moms at our November Davis County Mom's Lunch 
 at Red Robin! Please RSVP.
X-WR-RELCALID:0a900e4cab1db2409536cace64d099eb
X-WR-TIMEZONE:America/Denver
BEGIN:VTIMEZONE
TZID:America/Denver
BEGIN:STANDARD
TZNAME:MST
DTSTART:20241103T020000
TZOFFSETFROM:-0600
TZOFFSETTO:-0700
RDATE:20251102T020000
END:STANDARD
BEGIN:DAYLIGHT
TZNAME:MDT
DTSTART:20240310T020000
TZOFFSETFROM:-0700
TZOFFSETTO:-0600
RDATE:20250309T020000
RDATE:20260308T020000
END:DAYLIGHT
END:VTIMEZONE
BEGIN:VEVENT
UID:4b85ceab-381f-47ac-ae0e-f3c1e248bd4a
DTSTAMP:20260420T081747Z
DESCRIPTION:Join other UDSF moms at our November Davis County Mom's Lunch a
 t Red Robin! Please RSVP.
DTSTART;TZID=America/Denver:20241120T130000
DTEND;TZID=America/Denver:20241120T140000
LOCATION:1562 Woodland Park Dr\, Layton\, UT 84041 US
SUMMARY:Davis County Mom's Lunch
END:VEVENT
END:VCALENDAR
