BEGIN:VCALENDAR
VERSION:2.0
PRODID:-//www.udsf.org//NONSGML kigkonsult.se iCalcreator 2.30.10//
CALSCALE:GREGORIAN
METHOD:PUBLISH
UID:78bdfa6d-b10a-4ef6-9af5-39e04351c952
X-WR-CALDESC:Join us for a Mom's Night Out at Chili's in Harrisville!
X-WR-RELCALID:8449bf3f7d9628dfc359c7a31fa0d22e
X-WR-TIMEZONE:America/Denver
BEGIN:VTIMEZONE
TZID:America/Denver
BEGIN:STANDARD
TZNAME:MST
DTSTART:20241103T020000
TZOFFSETFROM:-0600
TZOFFSETTO:-0700
RDATE:20251102T020000
END:STANDARD
BEGIN:DAYLIGHT
TZNAME:MDT
DTSTART:20240310T020000
TZOFFSETFROM:-0700
TZOFFSETTO:-0600
RDATE:20250309T020000
RDATE:20260308T020000
END:DAYLIGHT
END:VTIMEZONE
BEGIN:VEVENT
UID:5f4170e7-fac9-450d-ae1a-36188f9fff98
DTSTAMP:20260420T081852Z
DESCRIPTION:Join us for a Mom's Night Out at Chili's in Harrisville!
DTSTART;TZID=America/Denver:20241121T180000
DTEND;TZID=America/Denver:20241121T190000
LOCATION:286 North St\, Harrisville\, UT 84404 US
SUMMARY:Weber/Morgan Mom's Night Out
END:VEVENT
END:VCALENDAR
