BEGIN:VCALENDAR
VERSION:2.0
PRODID:-//www.udsf.org//NONSGML kigkonsult.se iCalcreator 2.30.10//
CALSCALE:GREGORIAN
METHOD:PUBLISH
UID:eb4272ed-a0af-471c-a06e-2563be3fbfaa
X-WR-CALDESC:It's World Down Syndrome Day! How are you going to celebrate?
X-WR-RELCALID:2b5a68dbf9ad51ccbfbbac72d3c42fcf
X-WR-TIMEZONE:America/Denver
BEGIN:VTIMEZONE
TZID:America/Denver
BEGIN:STANDARD
TZNAME:MST
DTSTART:20271107T020000
TZOFFSETFROM:-0600
TZOFFSETTO:-0700
RDATE:20281105T020000
END:STANDARD
BEGIN:DAYLIGHT
TZNAME:MDT
DTSTART:20280312T020000
TZOFFSETFROM:-0700
TZOFFSETTO:-0600
RDATE:20290311T020000
END:DAYLIGHT
END:VTIMEZONE
BEGIN:VEVENT
UID:6e1bf851-653d-4c9b-94bf-876792575463
DTSTAMP:20260422T163302Z
DESCRIPTION:It's World Down Syndrome Day! How are you going to celebrate?
DTSTART;TZID=America/Denver:20280321T040000
DTEND;TZID=America/Denver:20280321T040001
LOCATION:
SUMMARY:World Down Syndrome Day
END:VEVENT
END:VCALENDAR
