BEGIN:VCALENDAR
VERSION:2.0
PRODID:-//www.udsf.org//NONSGML kigkonsult.se iCalcreator 2.30.10//
CALSCALE:GREGORIAN
METHOD:PUBLISH
UID:4bcb7598-59c9-41fe-a678-62d114ee1a3a
X-WR-CALDESC:It's World Down Syndrome Day! How are you going to celebrate?
X-WR-RELCALID:1df2338d9baed2ae2349b399497b6828
X-WR-TIMEZONE:America/Denver
BEGIN:VTIMEZONE
TZID:America/Denver
BEGIN:STANDARD
TZNAME:MST
DTSTART:20281105T020000
TZOFFSETFROM:-0600
TZOFFSETTO:-0700
RDATE:20291104T020000
END:STANDARD
BEGIN:DAYLIGHT
TZNAME:MDT
DTSTART:20290311T020000
TZOFFSETFROM:-0700
TZOFFSETTO:-0600
RDATE:20300310T020000
END:DAYLIGHT
END:VTIMEZONE
BEGIN:VEVENT
UID:7b35242e-c890-4588-8f4f-067896b28aba
DTSTAMP:20260423T110943Z
DESCRIPTION:It's World Down Syndrome Day! How are you going to celebrate?
DTSTART;TZID=America/Denver:20290321T040000
DTEND;TZID=America/Denver:20290321T040001
LOCATION:
SUMMARY:World Down Syndrome Day
END:VEVENT
END:VCALENDAR
